BEGIN:VCALENDAR
VERSION:2.0
PRODID:-//ΠΕΡΙ.ΠΟΛ.Ο - ECPv6.15.20//NONSGML v1.0//EN
CALSCALE:GREGORIAN
METHOD:PUBLISH
X-WR-CALNAME:ΠΕΡΙ.ΠΟΛ.Ο
X-ORIGINAL-URL:https://peripolo.gr
X-WR-CALDESC:Events for ΠΕΡΙ.ΠΟΛ.Ο
REFRESH-INTERVAL;VALUE=DURATION:PT1H
X-Robots-Tag:noindex
X-PUBLISHED-TTL:PT1H
BEGIN:VTIMEZONE
TZID:Europe/Moscow
BEGIN:STANDARD
TZOFFSETFROM:+0300
TZOFFSETTO:+0300
TZNAME:MSK
DTSTART:20220101T000000
END:STANDARD
END:VTIMEZONE
BEGIN:VEVENT
DTSTART;TZID=Europe/Moscow:20230825T203000
DTEND;TZID=Europe/Moscow:20230906T220000
DTSTAMP:20260426T010026
CREATED:20230801T080328Z
LAST-MODIFIED:20230827T100407Z
UID:52710-1692995400-1694037600@peripolo.gr
SUMMARY:ΕΝΑΛΛΑΚΤΙΚΕΣ ΔΙΑΚΟΠΕΣ ΣΤΗΝ ΑΝΑΤΟΛΙΚΗ ΚΡΗΤΗ ΚΑΙ ΤΗΝ ΚΑΣΟ (25 ΑΥΓΟΥΣΤΟΥ – 6 ΣΕΠΤΕΜΒΡΙΟΥ)
DESCRIPTION:Σαββατοκύριακο στη Μαγευτική Παύλιανη\, 21-22 Οκτωβρίου 2023.				\n				\n									ΔΙΑΡΚΕΙΑ: 2 ΗΜΕΡΕΣ (Σάββατο 8 π.μ. Αναχώρηση –  22 μ.μ. Επιστροφή στην Αθήνα) 								\n					\n		\n				\n			\n						\n					τιμή 80€				\n					\n		\n					\n		\n					\n		\n					\n		\n				\n						\n					\n			\n						\n				\n					\n	\n			\n\n				\n				\n					\n		\n					\n		\n				\n						\n					\n			\n						\n							\n			\n											\n							\n									\n									\n						\n					\n		\n					\n		\n				\n						\n					\n			\n						\n					ΣΥΝΔΕΣΜΟΣ GOOGLE EARTH				\n				\n							\n			\n						\n		\n						\n				\n									Πατήστε στον παρακάτω σύνδεσμο με την προϋπόθεση ότι έχετε κατεβάσει το Google Earth στο κινητό σας για να μπορέσετε να δείτε όλη τη διαδρομή της συγκεκριμένης εξόρμησης: https://earth.google.com/earth/d/1WMe3QZT2K59JFRjkuDiS2H8eXf42fAzy?usp=sharing 								\n				\n					ΤΑΥΤΟΤΗΤΑ ΕΚΔΡΟΜΗΣ				\n				\n							\n			\n						\n		\n						\n				\n									Συνοπτικό Πρόγραμμα ΔΙΑΔΡΟΜΗ – ΤΟΠΟΘΕΣΙΕΣ – ΕΚΔΡΟΜΕΣ – ΔΡΑΣΤΗΡΙΟΤΗΤΕΣ (Π) Πεζοπορίες\, (Ε) Εναλλακτικές\, (Προαιρετικές εκδρομές)\, (προαιρετικές επισκέψεις)  ΣΥΝΟΠΤΙΚΟ ΠΡΟΓΡΑΜΜΑ ΕΚΔΡΟΜΗΣ  Σάββατο 21 Οκτωβρίου Επίσκεψη στην Ιερά Μονή Δαμάστας  ΟΛΟΙ Ομάδα Α  ΠΕΖΟΠΟΡΙΑ διαδρομή Παύλιανη – Αισθητικό δάσος Παύλιανης – κορυφή Μισόραχος – Iron Throne Ομάδα Β Ελεύθερος χρόνος για  περίπατο  στο περίφημο παρκάκι της Παύλιανης στις πηγές του Ασωπού. Επίσκεψη στο Μουσείο Υδροκίνησης. Επίσκεψη στο Ναό του Αγίου Αθανασίου . Επίσκεψη στο κέντρο ενημέρωσης Φυσικής ιστορίας Οίτης. Το βράδυ φαγητό στις τοπικές ταβέρνες! Κυριακή 22 Οκτωβρίου Μετά το πρωινό  Ομάδα Α  ΠΕΖΟΠΟΡΙΑ <<  The path of joy and talaiporias (Λίμνη Τζιρό)>>  Ομάδα Β επίσκεψη στο χωριό Καλοσκοπή (Κουκουβίστα) .Επίσκεψη στο Λαογραφικό μουσείο. Φυσιολατρικό περπάτημα (προαιρετικά) . Καφέ σε παραδοσιακό καφενείο του χωριού Φαγητό σε ταβέρνα της Καλοσκοπής (ομάδα Α’ & ομάδα Β’ ) 								\n				\n					ΑΝΑΛΥΤΙΚΟ ΠΡΟΓΡΑΜΜΑ ΕΚΔΡΟΜΗΣ				\n				\n							\n			\n						\n		\n						\n				\n							\n			\n									1η ημέρα\n									2η ημέρα\n							\n			\n									1η ημέρα\n					Σάββατο 21 Οκτωβρίου Επίσκεψη στην Ιερά Μονή Δαμάστας  ΟΛΟΙ  Η Ιερά Μονή Δαμάστας\, αφιερωμένη στο Γενέθλιο της Θεοτόκου\, βρίσκεται στο Δ.Δ. Δαμάστας στις πλαγιές του Καλλίδρομου σε ύψος 580 μ.\, μέσα σε ένα μαγευτικό περιβάλλον και είναι γυναικεία. Η πρώιμη ιστορία της είναι άγνωστη. Μια εκδοχή θέλει η ονομασία «Δαμάστα» να προήλθε από την πόλη Δαμασκό\, από όπου\, όπως κάποιοι πιστεύουν\, ήρθε η Ιερά εικόνα της Παναγίας. Το καθολικό είναι του 11ου αιώνα με Αγιογραφίες του 1818. Στο κτηριακό συγκρότημα της Μονής ξεχωρίζουν ο ξενώνας\, το κωδωνοστάσιο\, η εικόνα της βρεφοκρατούσας Θεοτόκου\, το αρχονταρίκι και ο προαύλιος χώρος με τις κρήνες και το παρεκκλήσι του Αγίου Κωνσταντίνου και Ελένης.  Η Μονή έχει υποστεί πολλές καταστροφές με τη μεγαλύτερη να καταγράφεται στα χρόνια του 21\, όταν πυρπολήθηκε από τους Τούρκους. Τότε καταστράφηκαν τα πολύτιμα κειμήλια και η βιβλιοθήκη της. Η ανοικοδόμησή της Μονής οφείλεται σε προσφορές ευσεβών χριστιανών. Πανηγυρίζει στις 8 Σεπτεμβρίου.  Α ΟΜΑΔΑ ΠΕΖΟΠΟΡΙΚΗ  διαδρομή Παύλιανη – Αισθητικό δάσος Παύλιανης – κορυφή Μισόραχος – Iron Throne 8\,49 χλμ\, +372μ\, -372μ\, εύκολη.  https://el.wikiloc.com/oreibasia-diadromes/pauliane-aisthetiko-dasos-paulianes-kor-misorakhos-iron-throne-87552729 Μονοπάτι με τραμπολίνο\, κούνιες\, αιώρες\, γέφυρες με ξύλα βαμμένα σαν πλήκτρα πιάνου που παίζουν μουσική\, δεντρόσπιτα.  Στις πηγές του Ασωπού ποταμού\, λίγο έξω από την Παύλιανη Φθιώτιδας\, βρίσκεται ένα πρότυπο πάρκο αναψυχής\, διαμορφωμένο από τη νεολαία και τους κατοίκους του χωριού.   Ο πολιτιστικός σύλλογος της Παύλιανης είναι υπεύθυνος για τη διατήρηση και τον καθαρισμό του πάρκου\, αλλά και για τον εμπλουτισμό του με νέα στοιχεία και παιχνίδια.  Συναντάμε καταρράκτες\, τα δεντρόσπιτα και τις κούνιες που είναι κρεμασμένες σε δέντρα μέχρι τη διάσχιση του ρέματος με τροχαλία\, το τραμπολίνο και τον σιδερένιο θρόνο\, που δανείζεται την αισθητική του από το «Game of Thrones» και έχει ωραία θέα στις πλαγιές της Οίτης.  Β ΟΜΑΔΑ : ελεύθερος χρόνος για  περίπατο  στο περίφημο παρκάκι της Παύλιανης στις πηγές του Ασωπού\, ένα μοναδικό πάρκο αναψυχής\, με την περίφημη μουσική γέφυρα\, με πολλά τρεχούμενα νερά\, χώρους άθλησης και χειροκίνητα τελεφερίκ. Μπορούν να   αθληθούν ή απλά να ξεκουραστούν κάτω από τα πυκνά έλατα\, πίνοντας  καφέ  ή  αναψυκτικό  στο αναψυκτήριο\, που λειτουργεί εκεί.  Εκεί θα επισκεφθούν  επίσης και το Μουσείο Υδροκίνησης\, ένα κτηριακό Πέτρινο συγκρότημα\, το οποίο στεγάζει το Νεροπρίονο\, τον Νερόμυλο\, το Μαντάνι και την Νεροτριβή (Τρίστιλα).  Αξιοθαύμαστος\, επίσης\, είναι και ο Ναός του Αγίου Αθανασίου με το ξυλόγλυπτο τέμπλο και το πετρόκτιστο καμπαναριό\, που χρονολογείται από το έτος 1868.  Επίσκεψη στο κέντρο ενημέρωσης Φυσικής ιστορίας Οίτης.  Η Παύλιανη αφήνει γοητευμένο τον ταξιδιώτη\, με τον παραδοσιακό τρόπο δόμησης και οργάνωσης της τοπικής κοινωνίας. Το πέτρινο Δημοτικό Σχολείο είναι ένα μνημείο παραδοσιακής δόμησης. Χαρακτηριστικό\, άλλωστε\, της κοινότητας είναι η κυριαρχία στην οικιστική της ανάπτυξη δύο υλικών: της πέτρας και του ξύλου. Το βράδυ φαγητό στις τοπικές ταβέρνες! \n									2η ημέρα\n					Κυριακή 22 Οκτωβρίου Μετά το πρωινό η Α ΟΜΑΔΑ ΠΕΖΟΠΟΡΙΚΗ <<  The path of joy and talaiporias (Λίμνη Τζιρό)>>  ΜΔ 6\,56 χλμ\, ΥΔ  +197μ\, -197μ\,  ΩΠ  4 ΒΔΑ https://el.wikiloc.com/oreibasia-diadromes/the-path-of-joy-and-talaiporias-limne-tziro-112566411 Μια πολύ ευχάριστη και εύκολη διαδρομή\, . Γεμάτη γεφυρούλες και παιχνίδια σε ένα πανέμορφο τοπίο\, το οποίο είναι κατά 80% δίπλα σε τρεχούμενα νερά και μικρούς καταρράκτες υπό σκιά δέντρων. Το μονοπάτι είναι καθαρό\, περιποιημένο και πολύ καλά σηματοδοτημένο.  Υπάρχει μία βρύση με πόσιμο νερό στην εκκλησία\, περίπου 1\,5 χιλιόμετρο από την αφετηρία του μονοπατιού. Β) ομάδα’: επίσκεψη στο χωριό Καλοσκοπή (Κουκουβίστα) https://www.kaloskopi.gr/ Επίσκεψη στο Λαογραφικό μουσείο Φυσιολατρικό περπάτημα (προαιρετικά) σε μονοπάτι που οδηγείσε πηγή/βρύση ( μισή ώρα)  Καφέ σε παραδοσιακό καφενείο του χωριούΦαγητό σε ταβέρνα της Καλοσκοπής (ομάδα Α’ & ομάδα Β’ ) Επιστροφή στην Αθήνα το βράδυ περίπου στις 22.00μ.μ \n							\n		\n						\n				\n					ΚΡΑΤΗΣΕΙΣ - ΣΥΜΜΕΤΟΧΗ  				\n				\n							\n			\n						\n		\n						\n				\n									\n					\n		\n				\n			\n						\n				\n					\n	\n\n\n		\n		\n		Κάντε Κράτηση		\n\n			\n				\n				\n				\n									Περίοδοι -Φθινόπωρο 2023 Προκαταβολή -Προκαταβολή 40€ από 06/10/23 Αναχώρηση -21/10/23 								\n				\n					Χάρτες Διαδρομής				\n				\n							\n			\n											\n							\n									\n									\n						\n				\n				\n					\n				\n								Δήλωση Συμμετοχής\n							\n								Συμπληρώστε την παρακάτω φόρμα\, διαφορετικά μπορείτε να μας αποστείλετε και με e-mail την απόδειξη πληρωμής στο peripolo@peripolo.gr.\n							\n\n  \n\n\n\n\n  \n    \n        \n    \n    \n        \n    \n    \n        \n    \n    Ημ/νία Γεννήσεως\n        \n    \n   Παρακαλούμε επισυνάψτε το αρχείο PDF της απόδειξης προκαταβολής:\n        \n   \n    \n        Αποδέχομαι να λαμβάνω ενημερωτικά emails του Συλλόγου\n    \n    \n        \n    \n  \n\n\n\n\n							\n				\n					\n		\n					\n		\n				\n						\n					\n			\n						\n							\n			\n									Πληροφορίες Συμμετοχής\n									Τιμές & Εγγραφές\n							\n			\n									Πληροφορίες Συμμετοχής\n					Δηλώστε τη συμμετοχή σας\, στο site του συλλόγου\, www.peripolo.gr. συμπληρώνοντας την εκδήλωση ενδιαφέροντος  επισυνάπτοντας την απόδειξη κατάθεσης. Είτε με φωτογραφία τις απόδειξης \, είτε το pdf όπως λαμβάνετε online από την τράπεζα. Διαφορετικά αποστείλατε e-mail επισυνάπτοντας την απόδειξη κατάθεσης. Παρακαλούμε να καταθέσετε την προκαταβολή έγκαιρα διαφορετικά ακυρώνεται η θέση σας γιατί υπάρχει λίστα αναμονής.  Τηλέφωνα επικοινωνίας: 2105224924 – 69578180010 & 6936732069 email: peripolo@peripolo.gr  f/b περι.πολ.ο αττικής www.facebook.com/peripolo.gr    www.peripolo.gr   Αρχηγοί: Μανασής Χρόνης 6972072072-Μαρκάκη Φωτεινή  6937383506 Δηλώσεις συμμετοχής στα τηλ.2105224924 – 6957818001-  6936732069 Κατάθεση προκαταβολής 40 ευρώ από 4/10.  στον λογ. του συλλόγου στην Τράπεζα  Πειραιώς GR40 0172 0660 0050 6607 0982-560.  Παρακαλούμε να  καταθέσετε την προκαταβολή έγκαιρα διαφορετικά  ακυρώνεται η θέση  σας γιατί υπάρχει  λίστα αναμονής \, διότι είναι λίγα τα διαθέσιμα δωμάτια ΕΞΟΠΛΙΣΜΟΣ Ορειβατικά μποτάκια- παγούρι με νερό\, μπατόν\, καπέλο\, γυαλιά ηλίου\, αδιάβροχο. Ο αρχηγός της εκδρομής έχει το δικαίωμα\, να τροποποιήσει ή να ματαιώσει ένα πρόγραμμα που είναι σε εξέλιξη ή πριν την έναρξη αυτού\, για λόγους ασφάλειας ή ανωτέρας βίας (φυσικές καταστροφές\, ακατάλληλες καιρικές συνθήκες\, κλπ.).  Όποιος συμμετέχει\, γνωρίζει τις απαιτήσεις και την επικινδυνότητα της δραστηριότητας στην οποία συμμετέχει και αναλαμβάνει ατομικά την ευθύνη της συμμετοχής του στην δραστηριότητα\, αποδεχόμενος τους κινδύνους που ενέχει καθώς και την ευθύνη για την ασφάλειά του. \n									Τιμές & Εγγραφές\n					Τιμή συμμετοχής: 80 ευρώ τα μέλη – 90 ευρώ τα μη μέλη.  ΚΡΑΤΗΣΗ ΜΕ ΠΡΟΚΑΤΑΒΟΛΗ. Προτεραιότητα βάση ημερομηνίας Προκαταβολής – Εξόφλησης.  ΕΓΓΡΑΦΕΣ: Οι εγγραφές είναι έγκυρες με την κατάθεση της προκαταβολής. Κατάθεση προκαταβολής 40 ευρώ από 06/10 στον λογ. του συλλόγου στην Τράπεζα Πειραιώς.Τράπεζα Πειραιώς του συλλόγουαριθ. 5066-070982-560 IBAN GR 40 0172 0660 0050 6607 0982-560 Παρακαλούμε να καταθέσετε την προκαταβολή έγκαιρα διαφορετικά ακυρώνεται η θέση σας γιατί υπάρχει λίστα αναμονής.  ΠΕΡΙΛΑΜΒΑΝΟΝΤΑΙ: Μετακινήσεις με πούλμανΔιαμονή στον Ξενώνα ‘’Εποχές’’ &‘’Πέτρινο’’ΘΑ ΤΗΡΗΘΕΙ ΣΕΙΡΑ ΠΡΟΤΕΡΑΙΟΤΗΤΑΣΣτην τιμή δεν περιλαμβάνονται:Είσοδοι σε μουσεία – αρχαιολογικοί χώροι. \n							\n		\n						\n				\n					\n\nΜοιραστείτε στο Facebook
URL:https://peripolo.gr/event/enallaktikes-diakopes-stin-anatoliki-kriti-kai-tin-kaso-25-avgoustou-6-septemvriou/
CATEGORIES:Εκδρομή,Καλοκαίρι 2023,Πεζοπορία,Περασμένες Εκδρομές
ATTACH;FMTTYPE=image/webp:https://peripolo.gr/wp-content/uploads/2023/06/PERIPOLO-KRITI.webp
ORGANIZER;CN="%CE%A0%CE%B5%CF%81%CE%B9%CE%B2%CE%B1%CE%BB%CE%BB%CE%BF%CE%BD%CF%84%CE%B9%CE%BA%CF%8C%CF%82 %CE%A0%CE%BF%CE%BB%CE%B9%CF%84%CE%B9%CF%83%CF%84%CE%B9%CE%BA%CF%8C%CF%82 %CE%8C%CE%BC%CE%B9%CE%BB%CE%BF%CF%82 %CE%91%CF%84%CF%84%CE%B9%CE%BA%CE%AE%CF%82 (%CE%A0%CE%95%CE%A1%CE%99.%CE%A0%CE%9F%CE%9B.%CE%9F)":MAILTO:peripolo@peripolo.gr
END:VEVENT
END:VCALENDAR