BEGIN:VCALENDAR
VERSION:2.0
PRODID:-//ΠΕΡΙ.ΠΟΛ.Ο - ECPv6.15.20//NONSGML v1.0//EN
CALSCALE:GREGORIAN
METHOD:PUBLISH
X-WR-CALNAME:ΠΕΡΙ.ΠΟΛ.Ο
X-ORIGINAL-URL:https://peripolo.gr
X-WR-CALDESC:Events for ΠΕΡΙ.ΠΟΛ.Ο
REFRESH-INTERVAL;VALUE=DURATION:PT1H
X-Robots-Tag:noindex
X-PUBLISHED-TTL:PT1H
BEGIN:VTIMEZONE
TZID:UTC
BEGIN:STANDARD
TZOFFSETFROM:+0000
TZOFFSETTO:+0000
TZNAME:UTC
DTSTART:20210101T000000
END:STANDARD
END:VTIMEZONE
BEGIN:VEVENT
DTSTART;TZID=UTC:20220331T100000
DTEND;TZID=UTC:20220331T130000
DTSTAMP:20260420T100551
CREATED:20220331T173617Z
LAST-MODIFIED:20230728T140641Z
UID:52364-1648720800-1648731600@peripolo.gr
SUMMARY:ΥΜΗΤΤΟΣ:  Εθελοντική Αναδάσωση στις 03 ΑΠΡΙΛΙΟΥ 2022
DESCRIPTION:Αποκαθιστούμε την αρχιτεκτονική πρασίνου & ενισχύουμε τον πνεύμονα οξυγόνου της πόλης \nΤην Κυριακή 3 Απριλίου\, στις 10:00 πμ\, πραγματοποιεί ο Δήμος Ηλιούπολης την -εξ αναβολής λόγω κακοκαιρίας- πρώτη Εθελοντική Αναδάσωση στο βουνό μας για το 2022\, τον πολύπαθο Υμηττό\, με σημείο συνάντησης στο τέρμα της οδού Σοφοκλή Βενιζέλου\, στο Πυροφυλάκιο Εθελοντών Δασοπροστασίας. \nΣτην εθελοντική δράση συμμετέχουν η Εθελοντική Ομάδα Δασοπροστασία-Πυρόσβεσης Ηλιούπολης\, η Κυψέλη Εθελοντών του Δήμου\, ο Ορειβατικός Σύλλογος Ηλιούπολης\, το Σύστημα Προσκόπων\, το Σώμα Ελληνικού Οδηγισμού\, ο Σύλλογος «Περι.πολ.ο Αττικής»\, τα Δημοτικά Σχολεία 5ο\, 8ο\, 17ο & 20ο\, τα Γυμνάσια 1ο & 7ο\, τα Λύκεια 1ο & 3ο\, τα Εκπαιδευτήρια Ξένων Γλωσσών Μ. Ανδρουλάκης και το Περιφερειακό Τμήμα Ηλιούπολης του Ελληνικού Ερυθρού Σταυρού. \nΗ αναδάσωση πραγματοποιείται με την επιστημονική υποστήριξη και επίβλεψη του Συνδέσμου Προστασίας & Ανάπτυξης Υμηττού (ΣΠΑΥ) και σε συνεργασία με τον Μη Κερδοσκοπικό Περιβαλλοντικό Οργανισμό «We4All»\, ο οποίος συμβάλλει τόσο με την διάνοιξη των λάκκων φύτευσης\, όσο ΚΥΡΙΩΣ με την μέριμνα του τακτικού ποτίσματος\, σε ορίζοντα 4 χρόνων\, μέχρι δηλαδή να δυναμώσουν τα δένδρα και να μη χρειάζονται υποβοήθηση. \nΣυγκεκριμένα\, σε έκταση τεσσάρων περίπου στρεμμάτων θα φυτευτούν καταρχάς περί τα 500 φυτά και δέντρα\, βιολογικά προσαρμοσμένα στο περιβάλλον του Υμηττού\, κυπαρίσσια\, πικροδάφνες και σπάρτα\, με στόχο τη φυσική αναγέννηση στο διηνεκές. \nΟ Δήμος Ηλιούπολης συνεπής στην περιβαλλοντική του πολιτική\, θα συνεχίσει σύντομα με νέες δράσεις\, σε συνολική έκταση περίπου 20 στρεμμάτων\, με αφαίρεση και αντικατάσταση φυτών και δένδρων από προηγούμενες φυτεύσεις\, που δεν αναπτύχθηκαν και ταυτόχρονα με νέες φυτεύσεις με στόχο την ενίσχυση της βλάστησης και την αναγέννηση του μεγάλου πνεύμονα οξυγόνου της πόλης\, την αποκατάσταση της φυσικής αρχιτεκτονικής πρασίνου του τοπίου και τη φυσική αντιπλημμυρική οχύρωση\, που προσφέρει στην πόλη η δυναμική βλάστηση. \n29 Μαρτίου 2022 \nΚώστας Καλούδης \nΑντιδήμαρχος Πρασίνου & \nΠροστασίας Περιβάλλοντος
URL:https://peripolo.gr/event/%cf%85%ce%bc%ce%b7%cf%84%cf%84%ce%bf%cf%83-%ce%b5%ce%b8%ce%b5%ce%bb%ce%bf%ce%bd%cf%84%ce%b9%ce%ba%ce%ae-%ce%b1%ce%bd%ce%b1%ce%b4%ce%ac%cf%83%cf%89%cf%83%ce%b7-%cf%83%cf%84%ce%b9%cf%82-03-%ce%b1/
CATEGORIES:Ορειβασία,Περασμένες Εκδρομές
ATTACH;FMTTYPE=image/png:https://peripolo.gr/wp-content/uploads/2022/03/ΕΘΕΛΟΝΤΙΚΗ-ΑΝΑΔΑΣΩΣΗ-ΑΦΙΣΑ.docx.png
END:VEVENT
BEGIN:VEVENT
DTSTART;TZID=UTC:20220327T080000
DTEND;TZID=UTC:20220327T170000
DTSTAMP:20260420T100551
CREATED:20220302T152817Z
LAST-MODIFIED:20230728T140642Z
UID:52335-1648368000-1648400400@peripolo.gr
SUMMARY:ΠΕΖΟΠΟΡΙΑ ΣΤΗ ΖΗΡΕΙΑ
DESCRIPTION:ΠΕΖΟΠΟΡΙΑ ΣΤΗ ΖΗΡΕΙΑ \nΚΟΡΥΦΗ ΠΕΡΔΙΚΟΥΛΑ-ΛΙΜΝΗ ΔΑΣΙΟΥ-ΜΕΣΑΙΑ ΤΡΙΚΑΛΑ \n  \nΑναχώρηση στις 7.00πμ από το Δημαρχείο Ηλιούπολης με κατεύθυνση τα  Τρίκαλα Κορινθίας. \nΠριν το Χιονοδρομικό  θα πεζοπορήσουμε σε δασωμένο ανηφορικό μονοπάτι  μέχρι την κορυφή Περδικούλα. Φθάνοντας στην κορυφή  θα έχουμε πανοραμική θέα στις γύρω κορυφές και στην χιονισμένη  Ζήρεια.  Στην συνέχεια  κατάβαση  και πεζοπορία με κατεύθυνση την γραφική λίμνη Δασίου. \nΑφού  πεζοπορήσουμε περιμετρικά γύρω  από την λίμνη με κατάβαση  σέ δασικό δρόμο και μονοπάτι θα καταλήξουμε στα Μεσαία Τρίκαλα. ΩΠ 5 –ΒΔΑ-ΥΔ 500μ \nΓεύμα στα Μεσαία Τρίκαλα και επιστροφή στην Αθήνα με στάση ενδιάμεσα για καφέ. \nΚόστος εκδρομής : 20 ευρώ τα μέλη\, 22 τα μη μέλη \nΑΡΧΗΓΟΙ ΕΞΟΡΜΗΣΗΣ : ΧΡΟΝΗΣ ΜΑΝΑΣΗΣ  6949201984- ΤΣΙΡΤΑΒΗ ΑΘΑΝΑΣΙΑ \nΔΗΛΩΣΕΙΣ ΣΥΜΜΕΤΟΧΗΣ  2105224924-6957818001- 6936732069 \nΓια την συμμετοχή σας είναι απαραίτητη η κατάθεση  στο λογαριασμό του συλλόγου  στην τράπεζα Πειραιώς  αριθ.  5066-070982-560   IBAN GR 40 0172 0660 0050 6607 0982-560  μέχρι τις   25-3-2022 \nΕξοπλισμός: Ορειβατικά μποτάκια \,μπατόν \,γκέτες\,  fleece\, μπουφάν \,αντιανεμικό  αδιάβροχο\, γάντια \,σκούφος\, νερό .ξηρά τροφή. \nΟ αρχηγός της εκδρομής έχει το δικαίωμα\, να τροποποιήσει ή να ματαιώσει  ένα πρόγραμμα που είναι σε εξέλιξη  ή πριν την έναρξη αυτού\, για λόγους ασφάλειας ή ανωτέρας βίας (φυσικές καταστροφές\, ακατάλληλες καιρικές συνθήκες\, κλπ). Όποιος συμμετέχει\, γνωρίζει τις απαιτήσεις και την  επικινδυνότητα της δραστηριότητας στην οποία συμμετέχει  και  αναλαμβάνει  ατομικά την ευθύνη της συμμετοχής του  στην δραστηριότητα\, αποδεχόμενος τους κινδύνους που ενέχει καθώς και την ευθύνη για την ασφάλειά του. \nΙΣΧΥΟΥΝ ΤΑ ΕΚΑΣΤΟΤΕ ΙΣΧΥΟΝΤΑ ΜΕΤΡΑ ΜΕΤΑΔΟΣΗΣ ΤΟΥ COVID-19 ΣΤΗΝ ΕΠΙΚΡΑΤΕΙΑ \nΤο πούλμαν τηρεί όλα τα υγειονομικά πρωτόκολλα \nΠληρότητα θέσεων του πούλμαν με τα ισχύοντα μέτρα \nΦοράμε όλοι μάσκα μέσα στο πούλμαν \nΑπολυμαίνουμε τα χέρια μας κατά την είσοδο \nΔεν συμμετέχουμε αν νιώθουμε αδιαθεσία \nΔεν φοβόμαστε\, προσέχουμε!
URL:https://peripolo.gr/event/%cf%80%ce%b5%ce%b6%ce%bf%cf%80%ce%bf%cf%81%ce%b9%ce%b1-%cf%83%cf%84%ce%b7-%ce%b6%ce%b7%cf%81%ce%b5%ce%b9%ce%b1/
CATEGORIES:Πεζοπορία,Περασμένες Εκδρομές
ATTACH;FMTTYPE=image/jpeg:https://peripolo.gr/wp-content/uploads/2022/03/asd44.jpg
ORGANIZER;CN="%CE%A0%CE%B5%CF%81%CE%B9%CE%B2%CE%B1%CE%BB%CE%BB%CE%BF%CE%BD%CF%84%CE%B9%CE%BA%CF%8C%CF%82 %CE%A0%CE%BF%CE%BB%CE%B9%CF%84%CE%B9%CF%83%CF%84%CE%B9%CE%BA%CF%8C%CF%82 %CE%8C%CE%BC%CE%B9%CE%BB%CE%BF%CF%82 %CE%91%CF%84%CF%84%CE%B9%CE%BA%CE%AE%CF%82 (%CE%A0%CE%95%CE%A1%CE%99.%CE%A0%CE%9F%CE%9B.%CE%9F)":MAILTO:peripolo@peripolo.gr
END:VEVENT
BEGIN:VEVENT
DTSTART;TZID=UTC:20220326T090000
DTEND;TZID=UTC:20220326T130000
DTSTAMP:20260420T100551
CREATED:20220309T121350Z
LAST-MODIFIED:20230728T140643Z
UID:52347-1648285200-1648299600@peripolo.gr
SUMMARY:ΣΤΑ ΤΑΜΠΟΥΡΙΑ  ΤΩΝ ΑΓΩΝΙΣΤΩΝ - ΠΕΖΟΠΟΡΙΑ ΣΤΟ ΟΡΟΣ ΑΙΓΑΛΕΩ
DESCRIPTION:Το Ελληνικό Δίκτυο ΦΙΛΟΙ της ΦΥΣΗΣ/ Naturefriends Greece  στο πλαίσιο του έργου “Σηματοδότηση και ανάδειξη των Ταμπουριών των Αγωνιστών του ’21 στο Ποικίλο Όρος – Αιγάλεω” και με αφορμή την Εθνική γιορτή  στις 25 Μαρτίου προγραμματίζει μια ακόμα επίσκεψη\, ξενάγηση στην περιοχή. \nΟ σύλλογος ΠΕΡΙΠΟΛΟ ΑΤΤΙΚΗΣ συμμετέχει σε αυτή τη δράση . \nΣάββατο 26 Μαρτίου 2022 στις  09:00 π.μ. Τοποθεσία συνάντησης:  Λεωφ. Αθηνών 374\, Χαϊδάρι  – Τοπόσημο: Ψυχιατρικό Νοσοκομείο Αττικής (Δαφνί) στο περίπτερο \nΔιάρκεια διαδρομής: 3\,5 ώρες (περίπου) | Δυσκολία: Α’ μέρος (πολύ εύκολο)\, Β’ μέρος (με κλίση και ανώμαλο ανάγλυφο – μέτριας δυσκολίας). \nΟργάνωση – Ξενάγηση – Συμμετοχή: Δωρεάν. \n \n 
URL:https://peripolo.gr/event/%cf%83%cf%84%ce%b1-%cf%84%ce%b1%ce%bc%cf%80%ce%bf%cf%85%cf%81%ce%b9%ce%b1-%cf%84%cf%89%ce%bd-%ce%b1%ce%b3%cf%89%ce%bd%ce%b9%cf%83%cf%84%cf%89%ce%bd-%cf%80%ce%b5%ce%b6%ce%bf%cf%80%ce%bf%cf%81%ce%b9/
CATEGORIES:Περασμένες Εκδρομές
ATTACH;FMTTYPE=image/jpeg:https://peripolo.gr/wp-content/uploads/2022/03/ποικιλο-όρος.jpeg
ORGANIZER;CN="%CE%A0%CE%B5%CF%81%CE%B9%CE%B2%CE%B1%CE%BB%CE%BB%CE%BF%CE%BD%CF%84%CE%B9%CE%BA%CF%8C%CF%82 %CE%A0%CE%BF%CE%BB%CE%B9%CF%84%CE%B9%CF%83%CF%84%CE%B9%CE%BA%CF%8C%CF%82 %CE%8C%CE%BC%CE%B9%CE%BB%CE%BF%CF%82 %CE%91%CF%84%CF%84%CE%B9%CE%BA%CE%AE%CF%82 (%CE%A0%CE%95%CE%A1%CE%99.%CE%A0%CE%9F%CE%9B.%CE%9F)":MAILTO:peripolo@peripolo.gr
END:VEVENT
BEGIN:VEVENT
DTSTART;TZID=UTC:20220320T070000
DTEND;TZID=UTC:20220320T210000
DTSTAMP:20260420T100551
CREATED:20220225T162013Z
LAST-MODIFIED:20230728T140644Z
UID:52310-1647759600-1647810000@peripolo.gr
SUMMARY:ΠΕΖΟΠΟΡΙΑ ΣΤΟ ΜΑΙΝΑΛΟΝ
DESCRIPTION:ΚΥΡΙΑΚΗ 20 ΜΑΡΤΙΟΥ \n ΠΕΖΟΠΟΡΙΑ   ΣΤΟ ΜΑΙΝΑΛΟ \nΕλάτη -Βυτίνα \n  \nΗ διαδρομή Ελάτη-Βυτίνα είναι το τέταρτο τμήμα του Menalon  Trail Αποτελεί ένα ομαλό μονοπάτι με πολύ μικρές κλίσεις  κινούμενο κατά μήκος του Μυλαίοντα ποταμού\, το οποιόν το  αφήνουμε για να ανηφορίσει προς τη Βυτίνα. \nΗ διαδρομή ξεκινά από την Ελάτη\, χτισμένη σε υψόμετρο 1.200  μέτρων\,\, στην κοίτη του Μυλαίοντα ποταμού όπου συναντάμε το  παράχθιο μονοπάτι .Κινούμαστε άλλοτε σε καλντερίμι και άλλοτε  σε μονοπάτι ως τις πηγές Πυργακίου. Η διαδρομή συνεχίζεται ως  τη Βρύση Μακρινού .Στη συνέχεια της πορείας μας θα βρεθούμε  κάτω από το λόφο όπου βρίσκονταν το αρχαίο Μεθύδριον και αφού  περάσουμε το ποταμάκι θα μπούμε στον ωραίο μονοπάτι που  οδηγεί προς τη Βυτίνα. Στη διαδρομή μας θα συναντήσουμε τα  ερείπια τριών παλιών νερόμυλων και ακολούθως θα  ανηφορήσουμε σε ωραίο λαξευμένο μονοπάτι που θα μας  οδηγήσει στην πλατεία της Βυτίνας\, το κεφαλοχώρι της περιοχής  σε υψόμετρο 1033 μέτρων\,Ω.Π. 3\, 8\,9 χ.λ.μ Β.Δ 1+ Υ.Δ.264μ \nΕπίσκεψη στο Λαογραφικό Μουσείο Βυτίνας. \n \nΤο λαογραφικό μουσείο της Βυτίνας ιδρύθηκε το 1986 και  στεγάζεται σε ένα παραδοσιακό πετρόχτιστο οίκημα στην κεντρική  πλατεία της Βυτίνας. \nΗ συλλογή του μουσείου περιλαμβάνει αντικείμενα και εργαλεία  από την πλούσια ιστορική και κοινωνική κληρονομιά του τόπου. Τα  εκατοντάδες εκθέματα προέρχονται κυρίως από τις ιδιωτικές  συλλογές των δύο ιδρυτών του (ενός ντόπιου δάσκαλου συγγραφέα-λαογράφου και ενός κουρέα-ανταποκριτή της τοπικής  εφημερίδας) και από προσφορές κατοίκων της περιοχής.  Εκτίθενται γεωργικά και υλοτομικά εργαλεία\, παλαιές μηχανές\,  οικιακά σκεύη\, εκκλησιαστικά είδη\, υφαντά\, κεντήματα\, τοπικές  φορεσιές\, έπιπλα\, ένας πλήρης αργαλειός και φωτογραφίες.  Υπάρχει επίσης αναπαράσταση τσαγκαράδικου. \nΚόστος εκδρομής : 20 ευρώ τα μέλη\, 22 τα μη μέλη \nΑΡΧΗΓΟΙ ΕΞΟΡΜΗΣΗΣ :ΔΕΣΠΟΙΝΑ ΤΖΩΡΤΖΑΤΟΥ-ΧΡΟΝΗΣ ΜΑΝΑΣΗΣ \nΔΗΛΩΣΕΙΣ ΣΥΜΜΕΤΟΧΗΣ 210 5224924- 6957818001-6936732069 \nΓια την συμμετοχή σας είναι απαραίτητη η κατάθεση  στο λογαριασμό του συλλόγου  στην τράπεζα Πειραιώς  αριθ.  5066-070982-560   IBAN GR 40 0172 0660 0050 6607 0982-560  μέχρι τις   18-3-2022 \nΕξοπλισμός: Ορειβατικά μποτάκια \,μπατόν \,γκέτες\,  fleece\, μπουφάν αντιανεμικό  αδιάβροχο\, γάντια \,σκούφος\, νερό .ξηρά τροφή. \nΟ αρχηγός της εκδρομής έχει το δικαίωμα\, να τροποποιήσει ή να ματαιώσει  ένα πρόγραμμα που είναι σε εξέλιξη  ή πριν την έναρξη αυτού\, για λόγους ασφάλειας ή ανωτέρας βίας (φυσικές καταστροφές\, ακατάλληλες καιρικές συνθήκες\, κλπ). Όποιος συμμετέχει\, γνωρίζει τις απαιτήσεις και την  επικινδυνότητα της δραστηριότητας στην οποία συμμετέχει  και  αναλαμβάνει  ατομικά την ευθύνη της συμμετοχής του  στην δραστηριότητα\, αποδεχόμενος τους κινδύνους που ενέχει καθώς και την ευθύνη για την ασφάλειά του. \nΙΣΧΥΟΥΝ ΤΑ ΕΚΑΣΤΟΤΕ ΙΣΧΥΟΝΤΑ ΜΕΤΡΑ ΜΕΤΑΔΟΣΗΣ ΤΟΥ COVID-19 ΣΤΗΝ ΕΠΙΚΡΑΤΕΙΑ \nΤο πούλμαν τηρεί όλα τα υγειονομικά πρωτόκολλα \nΠληρότητα θέσεων του πούλμαν με τα ισχύοντα μέτρα \nΦοράμε όλοι μάσκα μέσα στο πούλμαν \nΑπολυμαίνουμε τα χέρια μας κατά την είσοδο \nΔεν συμμετέχουμε αν νιώθουμε αδιαθεσία \nΔεν φοβόμαστε\, προσέχουμε! \n  \n  \n  \n  \n  \n 
URL:https://peripolo.gr/event/%cf%80%ce%b5%ce%b6%ce%bf%cf%80%ce%bf%cf%81%ce%b9%ce%b1-%cf%83%cf%84%ce%bf-%ce%bc%ce%b1%ce%b9%ce%bd%ce%b1%ce%bb%ce%bf%ce%bd/
CATEGORIES:Πεζοπορία,Περασμένες Εκδρομές
ATTACH;FMTTYPE=image/png:https://peripolo.gr/wp-content/uploads/2022/02/ΒΥΤΙΝΑ2-1.png
END:VEVENT
BEGIN:VEVENT
DTSTART;TZID=UTC:20220318T203000
DTEND;TZID=UTC:20220318T230000
DTSTAMP:20260420T100551
CREATED:20220309T115341Z
LAST-MODIFIED:20220309T115341Z
UID:52344-1647635400-1647644400@peripolo.gr
SUMMARY:Η Τριλογία των Λήμαν Μπράδερς: Στο Θέατρο του Νέου Κόσμου και με νέα διανομή η παράσταση του Βαγγέλη Θεοδωρόπουλου
DESCRIPTION:Ο σύλλογος ΠΕΡΙΠΟΛΟ ΑΤΤΙΚΗΣ πάει θέατρο στις 18 Μαρτίου ημέρα Παρασκευή στην παράσταση του πολυβραβευμένου έργου του Στέφανο Μασσίνι\, «Η Τριλογία των Λήμαν Μπράδερς»\, σε σκηνοθεσία Βαγγέλη Θεοδωρόπουλου στην Κεντρική Σκηνή του Θεάτρου του Νέου Κόσμου . \nΗ παράσταση αρχίζει στις 20.30. \nΡαντεβού στις 20.00 στο ταμείο του θεάτρου . \nΔηλώσεις συμμετοχής στην Μυρσίνη Κώστα 6972504450 μέχρι τις 13 Μαρτίου . \nΚατάθεση του αντίτιμου του εισιτηρίου 17 ευρώ στο λογαριασμό του συλλόγου  στην τράπεζα Πειραιώς  αριθ.  5066-070982-560   IBAN GR 40 0172 0660 0050 6607 0982-560  μέχρι τις  14-3-2022 \nΟ Βαγγέλης Θεοδωρόπουλος κλείνει φέτος τα 30 χρόνια του στη σκηνοθεσία με το πολυβραβευμένο έργο «Η Τριλογία των ΛήμανΜπράδερς» του Στέφανο Μασσίνι. \nTους πρωταγωνιστικούς ρόλους ερμηνεύουν οι Μιχάλης Οικονόμου\, Παντελής Δεντάκης και Αλμπέρτο Φάις. \nΗ άνοδος και η πτώση μιας πάλαι ποτέ ισχυρής οικογένειας \nΟ Στέφανο Μασσίνι\, από τους σημαντικότερους μυθιστοριογράφους και θεατρικούς συγγραφείς της Ιταλίας\, δημιουργεί μια τοιχογραφία\, όπου συμπλέκονται τα μεγάλα γεγονότα της ιστορίας με την πορεία των αδελφών Λήμαν και των απογόνων τους\, η άνοδος και η πτώση\, ο θρίαμβος  μαζί με τα χάσματα και τις αμφιβολίες. \nΛίγα λόγια για το έργο \n1844: Ο Χεγιούμ Λήμαν\, γιος ενός εβραίου κτηνοτρόφου από τη Βαυαρία\, πατάει για πρώτη φορά το πόδι του στην Αμερική. Το όνομά του\, όπως και την πατρίδα του\, τα αφήνει πίσω. Στον Νέο Κόσμο θα ονομαστεί Χένρυ και θα ανοίξει ένα μικρό κατάστημα υφασμάτων στην Αλαμπάμα. Τα επόμενα χρόνια θα έρθουν κοντά του οι δυο αδερφοί του\, ο Μέντελ που έγινε Εμμάνουελ και ο Μάγιερ. Κάπως έτσι άρχισε η εντυπωσιακή πορεία των Λήμαν\, που κάλυψε 164 χρόνια και τρεις γενιές: από το εμπόριο υφασμάτων και βάμβακος στην ίδρυση δικής τους τράπεζας και στη δημιουργία μιας αυτοκρατορίας που δέσποσε στην οικονομική ζωή της Αμερικής και του κόσμου. \nΗ πορεία όμως αυτή είναι μια σταδιακή αποκοπή από τις ρίζες\, που αφορούν όχι μόνο την εβραϊκή ταυτότητα της οικογένειας αλλά και το αντικείμενο της οικονομικής τους δραστηριότητας\, που δεν είναι πια το βαμβάκι ή ο καφές\, οι σιδηρόδρομοι ή ο καπνός\, αλλά κάτι πολύ πιο αφηρημένο: Γίνονται έμποροι χρήματος\, με ό\,τι συνεπάγεται αυτό\, και φυσικά τον μεγάλο κίνδυνο να σκάσει η φούσκα\, όπως κι έγινε. \nΤο 2008 είναι η χρονιά της θεαματικής κατάρρευσης της τράπεζας επενδύσεων Λήμαν Μπράδερς\, που δίνει το έναυσμα της παγκόσμιας χρηματοοικονομικής κρίσης\, με συνέπειες που θα αργήσει ακόμα να ξεπεράσει η ανθρωπότητα.
URL:https://peripolo.gr/event/%ce%b7-%cf%84%cf%81%ce%b9%ce%bb%ce%bf%ce%b3%ce%af%ce%b1-%cf%84%cf%89%ce%bd-%ce%bb%ce%ae%ce%bc%ce%b1%ce%bd-%ce%bc%cf%80%cf%81%ce%ac%ce%b4%ce%b5%cf%81%cf%82-%cf%83%cf%84%ce%bf-%ce%b8%ce%ad%ce%b1%cf%84/
CATEGORIES:Πολιτισμικά
ATTACH;FMTTYPE=image/jpeg:https://peripolo.gr/wp-content/uploads/2022/03/lehman.jpeg
ORGANIZER;CN="%CE%A0%CE%B5%CF%81%CE%B9%CE%B2%CE%B1%CE%BB%CE%BB%CE%BF%CE%BD%CF%84%CE%B9%CE%BA%CF%8C%CF%82 %CE%A0%CE%BF%CE%BB%CE%B9%CF%84%CE%B9%CF%83%CF%84%CE%B9%CE%BA%CF%8C%CF%82 %CE%8C%CE%BC%CE%B9%CE%BB%CE%BF%CF%82 %CE%91%CF%84%CF%84%CE%B9%CE%BA%CE%AE%CF%82 (%CE%A0%CE%95%CE%A1%CE%99.%CE%A0%CE%9F%CE%9B.%CE%9F)":MAILTO:peripolo@peripolo.gr
END:VEVENT
BEGIN:VEVENT
DTSTART;TZID=UTC:20220313T070000
DTEND;TZID=UTC:20220313T210000
DTSTAMP:20260420T100551
CREATED:20220220T082105Z
LAST-MODIFIED:20230728T140645Z
UID:51619-1647154800-1647205200@peripolo.gr
SUMMARY:Πεζοπορία Κλημέντι
DESCRIPTION: Η πεζοπορία μας θα ξεκινήσει από  το Κλημέντι\, ένα από τα παλαιότερα χωριά της Κορινθίας\, χτισμένο το 1400 σε υψόμετρο 960μ. Από εκεί θα ανηφορίσουμε προς τον Άγιο Κωνσταντίνο και στη συνέχεια θα  ακολουθήσουμε την κορυφογραμμή Κωνομαύρα πάνω από το αναρριχητικό πεδίο της Φρύγανης όπου  θα απολαύσουμε τη θέα προς τον Ασπρόκαμπο\,  τη Μικρή Ζήρεια  και τον κάμπο της Βελίνας\, αν ο καιρός μας το επιτρέψει.  \nΣτη συνέχεια θα κατηφορίσουμε προς τον τελικό προορισμό μας\, το Κεφαλάρι στα 750μ.Το Κεφαλάρι  είναι αμφιθεατρικά\,  κτισμένο  στη πλαγιά της Ζήρειας ή Κυλλήνης. Στην όμορφη    πλατεία  του χωριού  δεσπόζει ένας πλάτανος ηλικίας  130 χρόνων (φυτεύθηκε το 1875 από  κάποιο  πλανόδιο πωλητή). Η αρχική ονομασία του χωριού ήταν Ντούσια. \,όνομα προερχόμενο  από έναν  οικιστή της περιοχής\, αρχηγό  νομάδων-κτηνοτρόφων που διαβιούσε στην ευρύτερη περιοχή.  \nΗ διαδρομή μας είναι   κυρίως μέσα σε  έλατα\, δρυς και πεύκα.  9\,7 χ.λ.μ.\, Β.Δ. 1+ \,Ω.Π.5.30\, Υ.Δ. 508μ. \n ΑΡΧΗΓΟΣ ΕΞΟΡΜΗΣΗΣ :ΔΕΣΠΟΙΝΑ ΤΖΩΡΤΖΑΤΟΥ-ΧΡΟΝΗΣ ΜΑΝΑΣΗΣ \nΚόστος εκδρομής : 20 ευρώ τα μέλη\, 22 τα μη μέλη \nΔΗΛΩΣΕΙΣ ΣΥΜΜΕΤΟΧΗΣ 6936732069 \nΓια την συμμετοχή σας είναι απαραίτητη η κατάθεση  στο λογαριασμό του συλλόγου  στην τράπεζα Πειραιώς  αριθ.  5066-070982-560   IBAN GR 40 0172 0660 0050 6607 0982-560  μέχρι τις   11-3-2022 \nΕξοπλισμός: Ορειβατικά μποτάκια \,μπατόν \,γκέτες\,  fleece\, μπουφάν \,αντιανεμικό  \,αδιάβροχο\, γάντια \,σκούφος\, νερό .ξηρά τροφή. \nΟ αρχηγός της εκδρομής έχει το δικαίωμα\, να τροποποιήσει ή να ματαιώσει  ένα πρόγραμμα που είναι σε εξέλιξη  ή πριν την έναρξη αυτού\, για λόγους ασφάλειας ή ανωτέρας βίας (φυσικές καταστροφές\, ακατάλληλες καιρικές συνθήκες\, κλπ). Όποιος συμμετέχει\, γνωρίζει τις απαιτήσεις και την  επικινδυνότητα της δραστηριότητας στην οποία συμμετέχει  και  αναλαμβάνει  ατομικά την ευθύνη της συμμετοχής του  στην δραστηριότητα\, αποδεχόμενος τους κινδύνους που ενέχει καθώς και την ευθύνη για την ασφάλειά του. \nΙΣΧΥΟΥΝ ΤΑ ΕΚΑΣΤΟΤΕ ΙΣΧΥΟΝΤΑ ΜΕΤΡΑ ΜΕΤΑΔΟΣΗΣ ΤΟΥ COVID-19 ΣΤΗΝ ΕΠΙΚΡΑΤΕΙΑ \nΤο πούλμαν τηρεί όλα τα υγειονομικά πρωτόκολλα \nΠληρότητα θέσεων του πούλμαν με τα ισχύοντα μέτρα \nΦοράμε όλοι μάσκα μέσα στο πούλμαν \nΑπολυμαίνουμε τα χέρια μας κατά την είσοδο \nΔεν συμμετέχουμε αν νιώθουμε αδιαθεσία \nΔεν φοβόμαστε\, προσέχουμε!
URL:https://peripolo.gr/event/%cf%80%ce%b5%ce%b6%ce%bf%cf%80%ce%bf%cf%81%ce%af%ce%b1-%ce%ba%ce%bb%ce%b7%ce%bc%ce%ad%ce%bd%cf%84%ce%b9/
CATEGORIES:Πεζοπορία,Περασμένες Εκδρομές
ATTACH;FMTTYPE=image/png:https://peripolo.gr/wp-content/uploads/2022/02/KLIMENTINI.png
ORGANIZER;CN="%CE%A0%CE%B5%CF%81%CE%B9%CE%B2%CE%B1%CE%BB%CE%BB%CE%BF%CE%BD%CF%84%CE%B9%CE%BA%CF%8C%CF%82 %CE%A0%CE%BF%CE%BB%CE%B9%CF%84%CE%B9%CF%83%CF%84%CE%B9%CE%BA%CF%8C%CF%82 %CE%8C%CE%BC%CE%B9%CE%BB%CE%BF%CF%82 %CE%91%CF%84%CF%84%CE%B9%CE%BA%CE%AE%CF%82 (%CE%A0%CE%95%CE%A1%CE%99.%CE%A0%CE%9F%CE%9B.%CE%9F)":MAILTO:peripolo@peripolo.gr
END:VEVENT
BEGIN:VEVENT
DTSTART;TZID=UTC:20220303T080000
DTEND;TZID=UTC:20220303T170000
DTSTAMP:20260420T100551
CREATED:20220220T081128Z
LAST-MODIFIED:20230728T140646Z
UID:51607-1646294400-1646326800@peripolo.gr
SUMMARY:Απόκριες στην Βέροια-Νάουσα-Βεργίνα-Βέρμιο
DESCRIPTION:ΑΠΟΚΡΙΕΣ ΣΤΗΝ ΝΑΟΥΣΑ-ΒΕΡΟΙΑ – ΒΕΡΓΙΝΑ-ΒΕΡΜΙΟ \nΠΕΜΠΤΗ 3 ΜΑΡΤΙΟΥ  Αναχώρηση  το  πρωί στις 6.00π.μ  από το Δημαρχείο  Ηλιούπολης  με κατεύθυνση την Βεργίνα. Εκεί θα γίνει ξενάγηση.  Όσοι δεν συμμετέχουν στην ξενάγηση  μπορούν να επισκεφθούν την  Ιερά Μονή Τιμίου Προδρόμου Βέροιας βρίσκεται στους πρόποδες των Πιερίων δίπλα στον ποταμό Αλιάκμονα  \nΕίναι μία ιστορική Μονή η οποία φημολογείται ότι υπάρχει σαν Ιερά Σκήτη από τον 9ο-10ο αιώνα. Σαν μονή λειτούργησε από  τον 14ο αιώνα . Το 1822 πυρπολήθηκε ολοκληρωτικά από τους Τούρκους και το μοναδικό κτίσμα που σώθηκε είναι το παρεκκλήσι της Μεταμορφώσεως του Σωτήρος κάτω από το βράχο. Η Μονή ανοικοδομήθηκε μέχρι το 1830 και διατηρεί την μακεδονική αρχιτεκτονική της.  Μετά  ην ξενάγηση θα κατευθυνθούμε στην Βέροια  όπου θα επισκεφθούμε το Αρχαιολογικό Μουσείο  και στην συνέχεια θα τακτοποιηθούμε στο ξενοδοχείο ΜΑΚΕΔΟΝΙΑ  όπου θα  διανυκτερεύσουμε. \nΠΑΡΑΣΚΕΥΗ 4 ΜΑΡΤΙΟΥ  Μετά το πρωινό θα κατευθυνθούμε προς την Νάουσα.    Θα  επισκεφθούμε την  Σχολή Αριστοτέλη η ποία είναι  από τα σημαντικότερα αξιοθέατα της Νάουσας και βρίσκεται σε απόσταση 2 περίπου χιλιομέτρων από το κέντρο της πόλης.   Βρίσκεται δίπλα στην φυσική πηγή Κεφαλάρι\, στην θέση Ισβόρια. Η σχολή ιδρύθηκε στο Νυμφαίο (ιερό αφιερωμένο στις Νύμφες των νερών)\, κοντά στην πόλη Μίεζα.  Στην σχολή του Αριστοτέλη\, παρέμεινε ο Μέγας Αλέξανδρος για 2 περίπου χρόνια\, μεταξύ 343 και 340 π.Χ.\, .   Στην συνέχεια θα επισκεφθούμε  το ορεινό χωριό Μεταμόρφωση.  Εκεί θα πεζοπορήσουμε  για να επισκεφθούμε τους Καταρράκτες και τις Βάθρες.  Η περιοχή  είναι ιστορική λόγω της Εθνικής Αντίστασης  1940-44.  Επίσης εκεί το τρένο  μετέφερε ξυλεία το 1910.    Μ.Δ  13 χλμ Υ.Δ + 300 μ. Ω.Π5     Φαγητό στο χωριό στην Ταβέρνα Αγκωνάρι και επιστροφή στην  Βέροια. \n ΣΑΒΒΑΤΟ 5 ΜΑΡΤΙΟΥ   Μετά το πρωινό πεζοπορία  στο Βέρμιο. Μ.Δ  14 χλμ. Υ.Δ + 400μ  Ω.Π5 .  Το μεσημέρι μέχρι το βράδυ θα υπάρχουν αποκρεάτικα  δρώμενα στην Νάουσα  εφόσον θα  πραγματοποιηθούν   λόγω του COVID  . \nΚΥΡΙΑΚΗ 6 ΜΑΡΤΙΟΥ    Μετά το πρωινό θα πάμε στην Νάουσα  Θα επισκεφθούμε  το Άλσος Αγίου Νικολάου θα δούμε τον ποταμό Αράπιτσα \,το εκτροφείο Θηραμάτων.   Το πάρκο δημιουργήθηκε στα τέλη της δεκαετίας του ’50 και σε αυτό υπάρχουν δέντρα και άλλα φυτά και λουλούδια\, τεχνητή λίμνη (εμβαδού περίπου 1\,5 στρέμματος) με ξύλινες γέφυρες\, δρομάκια\, σιντριβάνι και πλακόστρωτο\, ενώ μόνιμοι κάτοικοί του είναι πάπιες\, περιστέρια και παγωνιά καθώς και σκίουροι (οι οποίοι είναι κάπως δυσεύρετοι). \nΣτο πάρκο\, φιλοξενούνται προτομές και άλλα γλυπτά. Επίσης θα δούμε τον  χώρο της θυσίας των γυναικών της Νάουσας το 1822. \nΤο 1822 στο ολοκαύτωμα της Νάουσας\, αρκετές γυναίκες της πόλης προτιμούν να πέσουν μαζί με τα παιδιά τους στο ποτάμι της Αράπιτσας\, παρά να πέσουν στα χέρια των Τούρκων. \nΘα συνεχίσουμε την πεζοπορία μας  στο σημείο  Σπαστήρας \, Αμαζόνιος και τα εξωκλήσια Υπαπαντή-Προφήτης Ηλίας  \,Άγιοι Ταξιάρχες και τέλος Αγία Τριάδα και επιστροφή  από άλλη διαδρομή .  Μ.Δ  12 χλμ. Υ.Δ  + 600 μ. Ω.Π  5.30 \nΚ. ΔΕΥΤΕΡΑ 7 ΜΑΡΤΙΟΥ  Μετά το πρωινό  θα κατευθυνθούμε προς τον  Πλαταμώνα για πεζοπορία\, επίσκεψη του Κάστρου \, Κούλουμα.   Επιστροφή στην Αθήνα με στάση  για  φαγητό και καφέ. \nΑρχηγοί Παπαγεωργίου Γιώργος 6932215512  Τσιρταβή Αθανασία 6936732069 \nΤιμή συμμετοχής :Για τα μέλη  220 ευρώ \,  για τα μη μέλη   240 ευρώ \nΠεριλαμβάνει: \nΔιαμονή στο ξενοδοχείο ΜΑΚΕΔΟΝΙΑ  με πρωινό \nΜετακινήσεις με το  πούλμαν \nΔεν περιλαμβάνει: \nΕίσοδοι σε μουσεία\, ξεναγήσεις. \nΔηλώσεις συμμετοχής  2105224924-6957818001 -6936732069 \nΓια την συμμετοχή σας είναι απαραίτητη η κατάθεση  στο λογαριασμό του συλλόγου  80 ευρώ στην τράπεζα Πειραιώς  αριθ.  5066-070982-560   IBAN GR 40 0172 0660 0050 6607 0982-560  μέχρι τις   10-2-2022 \nΕΞΟΠΛΙΣΜΟΣ \nΟρειβατικά μποτάκια- παγούρι με νερό\, μπατόν\, σκούφος ή καπέλο\, γάντια\, γυαλιά ηλίου\, αδιάβροχο\, δεύτερη αλλαξιά. \nΟ αρχηγός της εκδρομής έχει το δικαίωμα\, να τροποποιήσει ή να ματαιώσει  ένα πρόγραμμα που είναι σε εξέλιξη  ή πριν την έναρξη αυτού\, για λόγους ασφάλειας ή ανωτέρας βίας (φυσικές καταστροφές\, ακατάλληλες καιρικές συνθήκες\, κλπ). Όποιος συμμετέχει\, γνωρίζει τις απαιτήσεις και την  επικινδυνότητα της δραστηριότητας στην οποία συμμετέχει  και  αναλαμβάνει  ατομικά την ευθύνη της συμμετοχής του  στην δραστηριότητα\, αποδεχόμενος τους κινδύνους που ενέχει καθώς και την ευθύνη για την ασφάλειά του. \nΙΣΧΥΟΥΝ ΤΑ ΕΚΑΣΤΟΤΕ ΙΣΧΥΟΝΤΑ ΜΕΤΡΑ ΜΕΤΑΔΟΣΗΣ ΤΟΥ COVID-19 ΣΤΗΝ ΕΠΙΚΡΑΤΕΙΑ \nΤο πούλμαν τηρεί όλα τα υγειονομικά πρωτόκολλα \nΠληρότητα θέσεων του πούλμαν με τα ισχύοντα μέτρα \nΦοράμε όλοι μάσκα μέσα στο πούλμαν \nΑπολυμαίνουμε τα χέρια μας κατά την είσοδο \nΔεν συμμετέχουμε αν νιώθουμε αδιαθεσία \nΔεν φοβόμαστε\, προσέχουμε!
URL:https://peripolo.gr/event/%ce%b1%cf%80%cf%8c%ce%ba%cf%81%ce%b9%ce%b5%cf%82-%cf%83%cf%84%ce%b7%ce%bd-%ce%b2%ce%ad%cf%81%ce%bf%ce%b9%ce%b1-%ce%bd%ce%ac%ce%bf%cf%85%cf%83%ce%b1-%ce%b2%ce%b5%cf%81%ce%b3%ce%af%ce%bd%ce%b1-%ce%b2/
CATEGORIES:Εκδρομή,Περασμένες Εκδρομές
ATTACH;FMTTYPE=image/jpeg:https://peripolo.gr/wp-content/uploads/2022/02/NAUSA.jpg
ORGANIZER;CN="%CE%A0%CE%B5%CF%81%CE%B9%CE%B2%CE%B1%CE%BB%CE%BB%CE%BF%CE%BD%CF%84%CE%B9%CE%BA%CF%8C%CF%82 %CE%A0%CE%BF%CE%BB%CE%B9%CF%84%CE%B9%CF%83%CF%84%CE%B9%CE%BA%CF%8C%CF%82 %CE%8C%CE%BC%CE%B9%CE%BB%CE%BF%CF%82 %CE%91%CF%84%CF%84%CE%B9%CE%BA%CE%AE%CF%82 (%CE%A0%CE%95%CE%A1%CE%99.%CE%A0%CE%9F%CE%9B.%CE%9F)":MAILTO:peripolo@peripolo.gr
END:VEVENT
BEGIN:VEVENT
DTSTART;TZID=UTC:20220227T080000
DTEND;TZID=UTC:20220227T170000
DTSTAMP:20260420T100551
CREATED:20220220T080007Z
LAST-MODIFIED:20230728T140647Z
UID:51599-1645948800-1645981200@peripolo.gr
SUMMARY:Πεζοπορία στον Υμηττό
DESCRIPTION:Η εξόρμηση θα πραγματοποιηθεί με δικά μας μέσα. \nΘα ξεκινήσουμε από το τέρμα της οδού Μεγάλου σπηλαίου στην Άνω Γλυφάδα στις 10π.μ  Για να φθάσουμε στον τόπο εκκίνησης παίρνουμε την Αγίου Νεκταρίου η την  Γεννηματά στην  Γλυφάδα\, μέχρι την Κ. Παλαιολόγου\, και Μεγάλου Σπηλαίου όπου παρκάρουμε κάποια αυτοκίνητα. θα πάμε μέχρι το τέρμα Μετσόβου\, ώστε να μη περπατάμε στην άσφαλτο. \n  \nΘα  πεζοπορήσουμε στον νότιο Υμηττό\, πάνω από την Άνω Γλυφάδα σ το μονοπάτι που θα μας οδηγήσει στο εκκλησάκι του προφήτη Ηλία Γλυφάδας. Το εκκλησάκι βρίσκεται σε υψόμετρο 398 μ\, και ανεβαίνοντας βλέπει κανείς όλα τα νότια προάστια μέχρι τον Πειραιά\, ενώ με μια καλή ματιά θα δει να ξεμυτίζει ακόμη και  το κέντρο της Αθήνας. \nΤο εκκλησάκι χτίστηκε το 1950\, όταν ένας οικοδόμος\, ο κος Σαράντος\, είδε στον ύπνο του τον προφήτη Ηλία να του ζητάει να χτιστεί το εκκλησάκι\, υποδεικνύοντας του μάλιστα και το σημείο στο βουνό. \nΈτσι ξεκίνησε η ανέγερση του ναίσκου\, αφού ο κος Σαράντος προσέφερε όλα τα απαιτούμενα οικοδομικά υλικά\, και οργάνωσε την μεταφορά τους στο βουνό με γαϊδουράκια. Έκτοτε στις 19 και 20 Ιουλίου εκατοντάδες κόσμου ανεβαίνουν στο εκκλησάκι για να τιμήσουν τον Προφήτη και να απολαύσουν   την εμπειρία της ανάβασης. Ενδιαφέρον έχει επίσης το γεγονός\, πως το συγκεκριμένο βουνό έχει επιβιώσει από πολλές μεγάλες πυρκαγιές\, όπως ήταν αυτή τον Ιούνιο του 2009\, όταν κάηκε ένα πολύ μεγάλο μέρος πράσινου…. Παρ’ όλα αυτά το εκκλησάκι στέκει εκεί για πάνω από 70 χρόνια. \nΦτάνοντας στο εκκλησάκι\, και αφού βγάλουμε φωτογραφίες και θαυμάσουμε την θέα\, όσοι δεν θέλουν να συνεχίσουν την πεζοπορία μπορούν να επιστρέψουν  στα  αυτοκίνητά τους. (περίπου 2 ώρες\, 5 χιλ. Υ.Δ 200. Μ) \nΟι υπόλοιποι θα συνεχίσουμε την ανάβαση μας μέχρι την” πράσινη κορυφή” (600 μ.) σε ευδιάκριτο  μονοπάτι και έπειτα θα  αρχίσουμε να κατεβαίνουμε περπατώντας σε χωματόδρομο και μονοπάτι\, μέχρι να φτάσουμε στην σπηλιά του Δράκου . \nΣε λίγο θα  φτάσουμε στο τέρμα της οδού Μετσόβου\, προέκταση της Ανθέων \, θα πάρουμε κάποια αυτοκίνητα που αφήσαμε εκεί\, ώστε να επιστρέψουμε στην αφετηρία μας. \nΗ διαδρομή είναι κυκλική περίπου 5 ώρες. Υ. Δ. 400 μ\, περίπου 12 χιλ. \nΑρχηγός εξόρμησης: Αναστασία Χειμωνάκη 6983710097 \nΔΗΛΩΣΕΙΣ ΣΥΜΜΕΤΟΧΗΣ 210 5224924- 6957818001-6936732069 \nΕΞΟΠΛΙΣΜΟΣ : Μποτάκια ορειβατικά\, σακίδιο\, μπατόν\, μπουφάν( αντιανεμικό\, αδιάβροχο\, διαπνέον) σκούφος\, γάντια\, νερό.
URL:https://peripolo.gr/event/%cf%80%ce%b5%ce%b6%ce%bf%cf%80%ce%bf%cf%81%ce%af%ce%b1-%cf%83%cf%84%ce%bf%ce%bd-%cf%85%ce%bc%ce%b7%cf%84%cf%84%cf%8c/
CATEGORIES:Πεζοπορία,Περασμένες Εκδρομές
ATTACH;FMTTYPE=image/png:https://peripolo.gr/wp-content/uploads/2022/02/profitis-ilias.png
ORGANIZER;CN="%CE%A0%CE%B5%CF%81%CE%B9%CE%B2%CE%B1%CE%BB%CE%BB%CE%BF%CE%BD%CF%84%CE%B9%CE%BA%CF%8C%CF%82 %CE%A0%CE%BF%CE%BB%CE%B9%CF%84%CE%B9%CF%83%CF%84%CE%B9%CE%BA%CF%8C%CF%82 %CE%8C%CE%BC%CE%B9%CE%BB%CE%BF%CF%82 %CE%91%CF%84%CF%84%CE%B9%CE%BA%CE%AE%CF%82 (%CE%A0%CE%95%CE%A1%CE%99.%CE%A0%CE%9F%CE%9B.%CE%9F)":MAILTO:peripolo@peripolo.gr
END:VEVENT
BEGIN:VEVENT
DTSTART;TZID=UTC:20220226T180000
DTEND;TZID=UTC:20220226T200000
DTSTAMP:20260420T100551
CREATED:20220225T151823Z
LAST-MODIFIED:20230728T140647Z
UID:52300-1645898400-1645905600@peripolo.gr
SUMMARY:ΕΚΘΕΣΗ ΧΑΡΑΚΤΙΚΗΣ
DESCRIPTION:ΞΕΝΑΓΗΣΗ ΣΤΗΝ ΕΚΘΕΣΗ ΧΑΡΑΚΤΙΚΗΣ ΣΤΗΝ ΣΧΟΛΗ ΚΑΛΩΝ ΤΕΧΝΩΝ \nΣΑΒΒΑΤΟ 26 ΦΕΒΡΟΥΑΡΙΟΥ ΣΤΙΣ 18.00μ.μ. \n  \n 
URL:https://peripolo.gr/event/%ce%b5%ce%ba%ce%b8%ce%b5%cf%83%ce%b7-%cf%87%ce%b1%cf%81%ce%b1%ce%ba%cf%84%ce%b9%ce%ba%ce%b7%cf%83/
CATEGORIES:Ξεναγήσεις,Περασμένες Εκδρομές
ATTACH;FMTTYPE=image/jpeg:https://peripolo.gr/wp-content/uploads/2022/02/ΑΦΙΣΑ-ΕΠΙΜΕΛΗΤΗΡΙΟΥ.jpg
ORGANIZER;CN="%CE%A0%CE%B5%CF%81%CE%B9%CE%B2%CE%B1%CE%BB%CE%BB%CE%BF%CE%BD%CF%84%CE%B9%CE%BA%CF%8C%CF%82 %CE%A0%CE%BF%CE%BB%CE%B9%CF%84%CE%B9%CF%83%CF%84%CE%B9%CE%BA%CF%8C%CF%82 %CE%8C%CE%BC%CE%B9%CE%BB%CE%BF%CF%82 %CE%91%CF%84%CF%84%CE%B9%CE%BA%CE%AE%CF%82 (%CE%A0%CE%95%CE%A1%CE%99.%CE%A0%CE%9F%CE%9B.%CE%9F)":MAILTO:peripolo@peripolo.gr
END:VEVENT
END:VCALENDAR