BEGIN:VCALENDAR
VERSION:2.0
PRODID:-//ΠΕΡΙ.ΠΟΛ.Ο - ECPv6.15.20//NONSGML v1.0//EN
CALSCALE:GREGORIAN
METHOD:PUBLISH
X-WR-CALNAME:ΠΕΡΙ.ΠΟΛ.Ο
X-ORIGINAL-URL:https://peripolo.gr
X-WR-CALDESC:Events for ΠΕΡΙ.ΠΟΛ.Ο
REFRESH-INTERVAL;VALUE=DURATION:PT1H
X-Robots-Tag:noindex
X-PUBLISHED-TTL:PT1H
BEGIN:VTIMEZONE
TZID:UTC
BEGIN:STANDARD
TZOFFSETFROM:+0000
TZOFFSETTO:+0000
TZNAME:UTC
DTSTART:20210101T000000
END:STANDARD
END:VTIMEZONE
BEGIN:VEVENT
DTSTART;TZID=UTC:20220226T180000
DTEND;TZID=UTC:20220226T200000
DTSTAMP:20260420T065011
CREATED:20220225T151823Z
LAST-MODIFIED:20230728T140647Z
UID:52300-1645898400-1645905600@peripolo.gr
SUMMARY:ΕΚΘΕΣΗ ΧΑΡΑΚΤΙΚΗΣ
DESCRIPTION:ΞΕΝΑΓΗΣΗ ΣΤΗΝ ΕΚΘΕΣΗ ΧΑΡΑΚΤΙΚΗΣ ΣΤΗΝ ΣΧΟΛΗ ΚΑΛΩΝ ΤΕΧΝΩΝ \nΣΑΒΒΑΤΟ 26 ΦΕΒΡΟΥΑΡΙΟΥ ΣΤΙΣ 18.00μ.μ. \n  \n 
URL:https://peripolo.gr/event/%ce%b5%ce%ba%ce%b8%ce%b5%cf%83%ce%b7-%cf%87%ce%b1%cf%81%ce%b1%ce%ba%cf%84%ce%b9%ce%ba%ce%b7%cf%83/
CATEGORIES:Ξεναγήσεις,Περασμένες Εκδρομές
ATTACH;FMTTYPE=image/jpeg:https://peripolo.gr/wp-content/uploads/2022/02/ΑΦΙΣΑ-ΕΠΙΜΕΛΗΤΗΡΙΟΥ.jpg
ORGANIZER;CN="%CE%A0%CE%B5%CF%81%CE%B9%CE%B2%CE%B1%CE%BB%CE%BB%CE%BF%CE%BD%CF%84%CE%B9%CE%BA%CF%8C%CF%82 %CE%A0%CE%BF%CE%BB%CE%B9%CF%84%CE%B9%CF%83%CF%84%CE%B9%CE%BA%CF%8C%CF%82 %CE%8C%CE%BC%CE%B9%CE%BB%CE%BF%CF%82 %CE%91%CF%84%CF%84%CE%B9%CE%BA%CE%AE%CF%82 (%CE%A0%CE%95%CE%A1%CE%99.%CE%A0%CE%9F%CE%9B.%CE%9F)":MAILTO:peripolo@peripolo.gr
END:VEVENT
END:VCALENDAR