BEGIN:VCALENDAR
VERSION:2.0
PRODID:-//ΠΕΡΙ.ΠΟΛ.Ο - ECPv6.15.20//NONSGML v1.0//EN
CALSCALE:GREGORIAN
METHOD:PUBLISH
X-ORIGINAL-URL:https://peripolo.gr
X-WR-CALDESC:Events for ΠΕΡΙ.ΠΟΛ.Ο
REFRESH-INTERVAL;VALUE=DURATION:PT1H
X-Robots-Tag:noindex
X-PUBLISHED-TTL:PT1H
BEGIN:VTIMEZONE
TZID:Europe/Moscow
BEGIN:STANDARD
TZOFFSETFROM:+0300
TZOFFSETTO:+0300
TZNAME:MSK
DTSTART:20230101T000000
END:STANDARD
END:VTIMEZONE
BEGIN:VEVENT
DTSTART;TZID=Europe/Moscow:20240515T070000
DTEND;TZID=Europe/Moscow:20241021T190000
DTSTAMP:20260421T045931
CREATED:20241122T190026Z
LAST-MODIFIED:20250507T225507Z
UID:54507-1715756400-1729537200@peripolo.gr
SUMMARY:Σάββατο 23 Νοεμβρίου. ΠΕΖΟΠΟΡΙΑ - ΣΥΓΚΕΝΤΡΩΣΗ ΔΙΑΜΑΡΤΥΡΙΑΣ
DESCRIPTION:
URL:https://peripolo.gr/event/%ce%bc%ce%bf%ce%bd%ce%bf%cf%80%ce%b1%cf%84%ce%b9-%cf%83%cf%89%ce%ba%cf%81%ce%b1%cf%84%ce%b7/
CATEGORIES:Εκδήλωση,Πεζοπορία
ATTACH;FMTTYPE=image/webp:https://peripolo.gr/wp-content/uploads/2024/11/FB23-11-2024-ΑΦΙΣΑ.webp
ORGANIZER;CN="%CE%A0%CE%B5%CF%81%CE%B9%CE%B2%CE%B1%CE%BB%CE%BB%CE%BF%CE%BD%CF%84%CE%B9%CE%BA%CF%8C%CF%82 %CE%A0%CE%BF%CE%BB%CE%B9%CF%84%CE%B9%CF%83%CF%84%CE%B9%CE%BA%CF%8C%CF%82 %CE%8C%CE%BC%CE%B9%CE%BB%CE%BF%CF%82 %CE%91%CF%84%CF%84%CE%B9%CE%BA%CE%AE%CF%82 (%CE%A0%CE%95%CE%A1%CE%99.%CE%A0%CE%9F%CE%9B.%CE%9F)":MAILTO:peripolo@peripolo.gr
END:VEVENT
END:VCALENDAR