BEGIN:VCALENDAR
VERSION:2.0
PRODID:-//ΠΕΡΙ.ΠΟΛ.Ο - ECPv6.15.20//NONSGML v1.0//EN
CALSCALE:GREGORIAN
METHOD:PUBLISH
X-ORIGINAL-URL:https://peripolo.gr
X-WR-CALDESC:Events for ΠΕΡΙ.ΠΟΛ.Ο
REFRESH-INTERVAL;VALUE=DURATION:PT1H
X-Robots-Tag:noindex
X-PUBLISHED-TTL:PT1H
BEGIN:VTIMEZONE
TZID:Europe/Athens
BEGIN:DAYLIGHT
TZOFFSETFROM:+0200
TZOFFSETTO:+0300
TZNAME:EEST
DTSTART:20240331T010000
END:DAYLIGHT
BEGIN:STANDARD
TZOFFSETFROM:+0300
TZOFFSETTO:+0200
TZNAME:EET
DTSTART:20241027T010000
END:STANDARD
BEGIN:DAYLIGHT
TZOFFSETFROM:+0200
TZOFFSETTO:+0300
TZNAME:EEST
DTSTART:20250330T010000
END:DAYLIGHT
BEGIN:STANDARD
TZOFFSETFROM:+0300
TZOFFSETTO:+0200
TZNAME:EET
DTSTART:20251026T010000
END:STANDARD
BEGIN:DAYLIGHT
TZOFFSETFROM:+0200
TZOFFSETTO:+0300
TZNAME:EEST
DTSTART:20260329T010000
END:DAYLIGHT
BEGIN:STANDARD
TZOFFSETFROM:+0300
TZOFFSETTO:+0200
TZNAME:EET
DTSTART:20261025T010000
END:STANDARD
END:VTIMEZONE
BEGIN:VEVENT
DTSTART;VALUE=DATE:20251012
DTEND;VALUE=DATE:20251013
DTSTAMP:20260420T034332
CREATED:20251005T201604Z
LAST-MODIFIED:20251005T215723Z
UID:54652-1760227200-1760313599@peripolo.gr
SUMMARY:ΚΥΡΙΑΚΗ 12 ΟΚΤΩΒΡΙΟΥ  ΠΕΖΟΠΟΡΙΑ. ΔΙΑΣΧΙΖΟΝΤΑΣ ΤΗΝ ΚΑΡΔΙΑ ΤΟΥ ΕΘΝΙΚΟΥ ΔΡΥΜΟΥ ΠΑΡΝΑΣΣΟΥ\, ΚΕΛΛΑΡΙΑ- ΑΝΩ ΠΟΛΥΔΡΟΣΟΣ .
DESCRIPTION:
URL:https://peripolo.gr/event/%ce%ba%cf%85%cf%81%ce%b9%ce%b1%ce%ba%ce%b7-12-10-2025-%cf%80%ce%b5%ce%b6%ce%bf%cf%80%ce%bf%cf%81%ce%b9%ce%b1/
CATEGORIES:PopUp,Εκδρομή,Ενεργές Εκδρομές,Πεζοπορία
ATTACH;FMTTYPE=image/png:https://peripolo.gr/wp-content/uploads/2025/10/photo-collage.png-1-e1759700750575.png
ORGANIZER;CN="%CE%A0%CE%B5%CF%81%CE%B9%CE%B2%CE%B1%CE%BB%CE%BB%CE%BF%CE%BD%CF%84%CE%B9%CE%BA%CF%8C%CF%82 %CE%A0%CE%BF%CE%BB%CE%B9%CF%84%CE%B9%CF%83%CF%84%CE%B9%CE%BA%CF%8C%CF%82 %CE%8C%CE%BC%CE%B9%CE%BB%CE%BF%CF%82 %CE%91%CF%84%CF%84%CE%B9%CE%BA%CE%AE%CF%82 (%CE%A0%CE%95%CE%A1%CE%99.%CE%A0%CE%9F%CE%9B.%CE%9F)":MAILTO:peripolo@peripolo.gr
END:VEVENT
BEGIN:VEVENT
DTSTART;VALUE=DATE:20251012
DTEND;VALUE=DATE:20251013
DTSTAMP:20260420T034332
CREATED:20251202T222655Z
LAST-MODIFIED:20251202T233949Z
UID:54761-1760227200-1760313599@peripolo.gr
SUMMARY:ΚΥΡΙΑΚΗ 7 ΔΕΚΕΜΒΡΙΟΥ  Ξενάγηση  στο Ναό του Ποσειδώνα και στους “κρυμμένους θησαυρούς” του Λαυρίου…
DESCRIPTION:
URL:https://peripolo.gr/event/kiriaki-7-dec-sounio-thoriko-layrio/
CATEGORIES:PopUp,Εκδρομή,Ενεργές Εκδρομές,Ξεναγήσεις
ATTACH;FMTTYPE=image/jpeg:https://peripolo.gr/wp-content/uploads/2025/12/photo-collage.png-2.jpg
ORGANIZER;CN="%CE%A0%CE%B5%CF%81%CE%B9%CE%B2%CE%B1%CE%BB%CE%BB%CE%BF%CE%BD%CF%84%CE%B9%CE%BA%CF%8C%CF%82 %CE%A0%CE%BF%CE%BB%CE%B9%CF%84%CE%B9%CF%83%CF%84%CE%B9%CE%BA%CF%8C%CF%82 %CE%8C%CE%BC%CE%B9%CE%BB%CE%BF%CF%82 %CE%91%CF%84%CF%84%CE%B9%CE%BA%CE%AE%CF%82 (%CE%A0%CE%95%CE%A1%CE%99.%CE%A0%CE%9F%CE%9B.%CE%9F)":MAILTO:peripolo@peripolo.gr
END:VEVENT
END:VCALENDAR